BEGIN:VCALENDAR
VERSION:2.0
PRODID:-//173.254.30.100//NONSGML kigkonsult.se iCalcreator 2.26.9//
CALSCALE:GREGORIAN
METHOD:PUBLISH
X-FROM-URL:http://wangarattagolf.org.au
X-WR-TIMEZONE:Australia/Melbourne
BEGIN:VTIMEZONE
TZID:Australia/Melbourne
X-LIC-LOCATION:Australia/Melbourne
BEGIN:STANDARD
DTSTART:20210404T030000
TZOFFSETFROM:+1100
TZOFFSETTO:+1000
RDATE:20220403T030000
TZNAME:AEST
END:STANDARD
BEGIN:DAYLIGHT
DTSTART:20201004T020000
TZOFFSETFROM:+1000
TZOFFSETTO:+1100
RDATE:20211003T020000
TZNAME:AEDT
END:DAYLIGHT
END:VTIMEZONE
BEGIN:VEVENT
UID:ai1ec-4139@wangarattagolf.org.au/wordpress
DTSTAMP:20210225T170450Z
CATEGORIES;LANGUAGE=en-AU:Womens
CONTACT:
DESCRIPTION:
DTSTART;VALUE=DATE:20191203
DTEND;VALUE=DATE:20191204
RRULE:FREQ=WEEKLY;UNTIL=20191226T235959Z;BYDAY=TU,TH;WKST=SU
SEQUENCE:0
SUMMARY:Women’s 9 and 18 Holes Stableford Summer Cup
URL:http://wangarattagolf.org.au/event/womens-9-and-18-holes-stableford-sum
 mer-cup/
X-COST-TYPE:free
END:VEVENT
BEGIN:VEVENT
UID:ai1ec-4146@wangarattagolf.org.au/wordpress
DTSTAMP:20210225T170450Z
CATEGORIES;LANGUAGE=en-AU:Combined
CONTACT:
DESCRIPTION:
DTSTART;VALUE=DATE:20191206
DTEND;VALUE=DATE:20191207
RRULE:FREQ=WEEKLY;UNTIL=20191220T235959Z;BYDAY=FR;WKST=SU
SEQUENCE:0
SUMMARY:Men and Women’s 9 Holes Stableford Twilight
URL:http://wangarattagolf.org.au/event/men-and-womens-9-holes-stableford-tw
 ilight/
X-COST-TYPE:free
END:VEVENT
BEGIN:VEVENT
UID:ai1ec-4178@wangarattagolf.org.au/wordpress
DTSTAMP:20210225T170450Z
CATEGORIES;LANGUAGE=en-AU:Womens
CONTACT:
DESCRIPTION:
DTSTART;VALUE=DATE:20191224
DTEND;VALUE=DATE:20191225
SEQUENCE:0
SUMMARY:Women’s 9 and 18 Holes Stableford
URL:http://wangarattagolf.org.au/event/womens-9-and-18-holes-stableford/
X-COST-TYPE:free
END:VEVENT
BEGIN:VEVENT
UID:ai1ec-4180@wangarattagolf.org.au/wordpress
DTSTAMP:20210225T170450Z
CATEGORIES;LANGUAGE=en-AU:Womens
CONTACT:
DESCRIPTION:
DTSTART;VALUE=DATE:20191226
DTEND;VALUE=DATE:20191227
SEQUENCE:0
SUMMARY:Women’s 9 and 18 Holes Stableford
URL:http://wangarattagolf.org.au/event/womens-9-and-18-holes-stableford-2/
X-COST-TYPE:free
END:VEVENT
BEGIN:VEVENT
UID:ai1ec-4182@wangarattagolf.org.au/wordpress
DTSTAMP:20210225T170450Z
CATEGORIES;LANGUAGE=en-AU:Womens
CONTACT:
DESCRIPTION:
DTSTART;VALUE=DATE:20191231
DTEND;VALUE=DATE:20200101
SEQUENCE:0
SUMMARY:Women’s 9 and 18 Holes Stableford
URL:http://wangarattagolf.org.au/event/womens-9-and-18-holes-stableford-3/
X-COST-TYPE:free
END:VEVENT
BEGIN:VEVENT
UID:ai1ec-4184@wangarattagolf.org.au/wordpress
DTSTAMP:20210225T170450Z
CATEGORIES;LANGUAGE=en-AU:Womens
CONTACT:
DESCRIPTION:
DTSTART;VALUE=DATE:20200102
DTEND;VALUE=DATE:20200103
SEQUENCE:0
SUMMARY:Women’s 9 and 18 Holes Stableford
URL:http://wangarattagolf.org.au/event/womens-9-and-18-holes-stableford-4/
X-COST-TYPE:free
END:VEVENT
BEGIN:VEVENT
UID:ai1ec-4186@wangarattagolf.org.au/wordpress
DTSTAMP:20210225T170450Z
CATEGORIES;LANGUAGE=en-AU:Womens
CONTACT:
DESCRIPTION:
DTSTART;VALUE=DATE:20200107
DTEND;VALUE=DATE:20200108
SEQUENCE:0
SUMMARY:Women’s 9 and 18 Holes Stableford
URL:http://wangarattagolf.org.au/event/womens-9-and-18-holes-stableford-5/
X-COST-TYPE:free
END:VEVENT
BEGIN:VEVENT
UID:ai1ec-4204@wangarattagolf.org.au/wordpress
DTSTAMP:20210225T170450Z
CATEGORIES;LANGUAGE=en-AU:Womens
CONTACT:
DESCRIPTION:
DTSTART;VALUE=DATE:20200109
DTEND;VALUE=DATE:20200110
SEQUENCE:0
SUMMARY:Women’s 9 and 18 Holes Stableford
URL:http://wangarattagolf.org.au/event/womens-9-and-18-holes-stableford-7/
X-COST-TYPE:free
END:VEVENT
BEGIN:VEVENT
UID:ai1ec-4200@wangarattagolf.org.au/wordpress
DTSTAMP:20210225T170450Z
CATEGORIES;LANGUAGE=en-AU:Womens
CONTACT:
DESCRIPTION:
DTSTART;VALUE=DATE:20200114
DTEND;VALUE=DATE:20200115
SEQUENCE:0
SUMMARY:Women’s 9 and 18 holes Stableford
URL:http://wangarattagolf.org.au/event/womens-9-and-18-holes-stableford-6/
X-COST-TYPE:free
END:VEVENT
BEGIN:VEVENT
UID:ai1ec-4224@wangarattagolf.org.au/wordpress
DTSTAMP:20210225T170450Z
CATEGORIES;LANGUAGE=en-AU:Womens
CONTACT:
DESCRIPTION:
DTSTART;VALUE=DATE:20200116
DTEND;VALUE=DATE:20200117
SEQUENCE:0
SUMMARY:Women’s 9 and 18 Holes Stableford
URL:http://wangarattagolf.org.au/event/womens-9-and-18-holes-stableford-8/
X-COST-TYPE:free
END:VEVENT
BEGIN:VEVENT
UID:ai1ec-4226@wangarattagolf.org.au/wordpress
DTSTAMP:20210225T170450Z
CATEGORIES;LANGUAGE=en-AU:Combined
CONTACT:
DESCRIPTION:
DTSTART;VALUE=DATE:20200117
DTEND;VALUE=DATE:20200118
SEQUENCE:0
SUMMARY:Men’s and Women’s 9 Holes Stableford Twilight & BBQ
URL:http://wangarattagolf.org.au/event/mens-and-womens-9-holes-stableford-t
 wilight-bbq-2/
X-COST-TYPE:free
END:VEVENT
BEGIN:VEVENT
UID:ai1ec-4227@wangarattagolf.org.au/wordpress
DTSTAMP:20210225T170450Z
CATEGORIES;LANGUAGE=en-AU:Womens
CONTACT:
DESCRIPTION:
DTSTART;VALUE=DATE:20200121
DTEND;VALUE=DATE:20200122
SEQUENCE:0
SUMMARY:Women’s 9 and 18 Holes Stableford
URL:http://wangarattagolf.org.au/event/womens-9-and-18-holes-stableford-9/
X-COST-TYPE:free
END:VEVENT
BEGIN:VEVENT
UID:ai1ec-4229@wangarattagolf.org.au/wordpress
DTSTAMP:20210225T170450Z
CATEGORIES;LANGUAGE=en-AU:Womens
CONTACT:
DESCRIPTION:
DTSTART;VALUE=DATE:20200123
DTEND;VALUE=DATE:20200124
SEQUENCE:0
SUMMARY:Women’s 9 and 18 Holes Stableford
URL:http://wangarattagolf.org.au/event/womens-9-and-18-holes-stableford-10/
X-COST-TYPE:free
END:VEVENT
BEGIN:VEVENT
UID:ai1ec-4238@wangarattagolf.org.au/wordpress
DTSTAMP:20210225T170450Z
CATEGORIES;LANGUAGE=en-AU:Womens
CONTACT:
DESCRIPTION:
DTSTART;VALUE=DATE:20200128
DTEND;VALUE=DATE:20200129
SEQUENCE:0
SUMMARY:Women’s 9 and 18 Holes Stableford
URL:http://wangarattagolf.org.au/event/womens-9-and-18-holes-stableford-11/
X-COST-TYPE:free
END:VEVENT
BEGIN:VEVENT
UID:ai1ec-4244@wangarattagolf.org.au/wordpress
DTSTAMP:20210225T170450Z
CATEGORIES;LANGUAGE=en-AU:Womens
CONTACT:
DESCRIPTION:
DTSTART;VALUE=DATE:20200130
DTEND;VALUE=DATE:20200131
SEQUENCE:0
SUMMARY:Women’s 9 and 18 Holes Stableford
URL:http://wangarattagolf.org.au/event/womens-9-and-18-holes-stableford-12/
X-COST-TYPE:free
END:VEVENT
BEGIN:VEVENT
UID:ai1ec-4205@wangarattagolf.org.au/wordpress
DTSTAMP:20210225T170450Z
CATEGORIES;LANGUAGE=en-AU:Combined
CONTACT:
DESCRIPTION:
DTSTART;TZID=Australia/Melbourne:20200110T163000
DTEND;TZID=Australia/Melbourne:20200110T180000
SEQUENCE:0
SUMMARY:Men’s and Women’s 9 Holes Stableford Twilight & BBQ
URL:http://wangarattagolf.org.au/event/mens-and-womens-9-holes-stableford-t
 wilight-bbq/
X-COST-TYPE:free
END:VEVENT
BEGIN:VEVENT
UID:ai1ec-4245@wangarattagolf.org.au/wordpress
DTSTAMP:20210225T170450Z
CATEGORIES;LANGUAGE=en-AU:Combined
CONTACT:
DESCRIPTION:
DTSTART;TZID=Australia/Melbourne:20200131T170000
DTEND;TZID=Australia/Melbourne:20200131T213000
SEQUENCE:0
SUMMARY:Men and Women’s 9 Holes Stableford and BBQ
URL:http://wangarattagolf.org.au/event/men-and-womens-9-holes-stableford-an
 d-bbq/
X-COST-TYPE:free
END:VEVENT
END:VCALENDAR
