BEGIN:VCALENDAR
VERSION:2.0
PRODID:-//173.254.30.100//NONSGML kigkonsult.se iCalcreator 2.26.9//
CALSCALE:GREGORIAN
METHOD:PUBLISH
X-FROM-URL:http://wangarattagolf.org.au
X-WR-TIMEZONE:Australia/Melbourne
BEGIN:VTIMEZONE
TZID:Australia/Melbourne
X-LIC-LOCATION:Australia/Melbourne
BEGIN:STANDARD
DTSTART:20210404T030000
TZOFFSETFROM:+1100
TZOFFSETTO:+1000
RDATE:20220403T030000
TZNAME:AEST
END:STANDARD
BEGIN:DAYLIGHT
DTSTART:20201004T020000
TZOFFSETFROM:+1000
TZOFFSETTO:+1100
RDATE:20211003T020000
TZNAME:AEDT
END:DAYLIGHT
END:VTIMEZONE
BEGIN:VEVENT
UID:ai1ec-4145@wangarattagolf.org.au/wordpress
DTSTAMP:20210225T170422Z
CATEGORIES;LANGUAGE=en-AU:Mens
CONTACT:
DESCRIPTION:
DTSTART;VALUE=DATE:20191204
DTEND;VALUE=DATE:20191205
RRULE:FREQ=WEEKLY;UNTIL=20191218T235959Z;BYDAY=WE;WKST=SU
SEQUENCE:0
SUMMARY:Men’s 9 hole and 18 Hole Stableford
URL:http://wangarattagolf.org.au/event/x-mens-9-hole-and-18-hole-stableford
 /
X-COST-TYPE:free
END:VEVENT
BEGIN:VEVENT
UID:ai1ec-4151@wangarattagolf.org.au/wordpress
DTSTAMP:20210225T170422Z
CATEGORIES;LANGUAGE=en-AU:Mens
CONTACT:
DESCRIPTION:
DTSTART;VALUE=DATE:20191204
DTEND;VALUE=DATE:20191205
RRULE:FREQ=WEEKLY;UNTIL=20191218T235959Z;BYDAY=WE;WKST=SU
SEQUENCE:0
SUMMARY:Men’s 9 Holes Stableford Twilight
URL:http://wangarattagolf.org.au/event/mens-9-holes-stableford-twilight/
X-COST-TYPE:free
END:VEVENT
BEGIN:VEVENT
UID:ai1ec-4146@wangarattagolf.org.au/wordpress
DTSTAMP:20210225T170422Z
CATEGORIES;LANGUAGE=en-AU:Combined
CONTACT:
DESCRIPTION:
DTSTART;VALUE=DATE:20191206
DTEND;VALUE=DATE:20191207
RRULE:FREQ=WEEKLY;UNTIL=20191220T235959Z;BYDAY=FR;WKST=SU
SEQUENCE:0
SUMMARY:Men and Women’s 9 Holes Stableford Twilight
URL:http://wangarattagolf.org.au/event/men-and-womens-9-holes-stableford-tw
 ilight/
X-COST-TYPE:free
END:VEVENT
BEGIN:VEVENT
UID:ai1ec-4147@wangarattagolf.org.au/wordpress
DTSTAMP:20210225T170422Z
CATEGORIES;LANGUAGE=en-AU:Mens
CONTACT:
DESCRIPTION:
DTSTART;VALUE=DATE:20191207
DTEND;VALUE=DATE:20191208
SEQUENCE:0
SUMMARY:Men’s Monthly Medal Stroke
URL:http://wangarattagolf.org.au/event/mens-monthly-medal-stroke/
X-COST-TYPE:free
END:VEVENT
BEGIN:VEVENT
UID:ai1ec-4148@wangarattagolf.org.au/wordpress
DTSTAMP:20210225T170422Z
CATEGORIES;LANGUAGE=en-AU:Mens
CONTACT:
DESCRIPTION:
DTSTART;VALUE=DATE:20191214
DTEND;VALUE=DATE:20191215
SEQUENCE:0
SUMMARY:Men’s 18 Holes Stableford President’s Cup
URL:http://wangarattagolf.org.au/event/mens-18-holes-stableford-presidents-
 cup/
X-COST-TYPE:free
END:VEVENT
BEGIN:VEVENT
UID:ai1ec-4140@wangarattagolf.org.au/wordpress
DTSTAMP:20210225T170422Z
CATEGORIES;LANGUAGE=en-AU:Mens
CONTACT:
DESCRIPTION:
DTSTART;VALUE=DATE:20191221
DTEND;VALUE=DATE:20191222
SEQUENCE:0
SUMMARY:Men’s Turkey and Ham 2B Ambrose
URL:http://wangarattagolf.org.au/event/mens-turkey-and-ham-2b-ambrose/
X-COST-TYPE:free
END:VEVENT
BEGIN:VEVENT
UID:ai1ec-4149@wangarattagolf.org.au/wordpress
DTSTAMP:20210225T170422Z
CATEGORIES;LANGUAGE=en-AU:Mens
CONTACT:
DESCRIPTION:
DTSTART;VALUE=DATE:20191228
DTEND;VALUE=DATE:20191229
SEQUENCE:0
SUMMARY:Men’s 18 Holes Stableford
URL:http://wangarattagolf.org.au/event/mens-18-holes-stableford/
X-COST-TYPE:free
END:VEVENT
BEGIN:VEVENT
UID:ai1ec-4183@wangarattagolf.org.au/wordpress
DTSTAMP:20210225T170422Z
CATEGORIES;LANGUAGE=en-AU:Mens
CONTACT:
DESCRIPTION:
DTSTART;VALUE=DATE:20200101
DTEND;VALUE=DATE:20200102
SEQUENCE:0
SUMMARY:Men’s 9 and 18 Holes Stableford
URL:http://wangarattagolf.org.au/event/mens-9-and-18-holes-stableford/
X-COST-TYPE:free
END:VEVENT
BEGIN:VEVENT
UID:ai1ec-4185@wangarattagolf.org.au/wordpress
DTSTAMP:20210225T170422Z
CATEGORIES;LANGUAGE=en-AU:Mens
CONTACT:
DESCRIPTION:
DTSTART;VALUE=DATE:20200104
DTEND;VALUE=DATE:20200105
SEQUENCE:0
SUMMARY:Men’s Monthly Medal 18 Holes Stroke
URL:http://wangarattagolf.org.au/event/mens-monthly-medal-18-holes-stroke/
X-COST-TYPE:free
END:VEVENT
BEGIN:VEVENT
UID:ai1ec-4202@wangarattagolf.org.au/wordpress
DTSTAMP:20210225T170422Z
CATEGORIES;LANGUAGE=en-AU:Mens
CONTACT:
DESCRIPTION:
DTSTART;VALUE=DATE:20200108
DTEND;VALUE=DATE:20200109
SEQUENCE:0
SUMMARY:Men’s 9 and 18 Holes Stableford
URL:http://wangarattagolf.org.au/event/mens-9-and-18-holes-stableford-2/
X-COST-TYPE:free
END:VEVENT
BEGIN:VEVENT
UID:ai1ec-4201@wangarattagolf.org.au/wordpress
DTSTAMP:20210225T170422Z
CATEGORIES;LANGUAGE=en-AU:Mens
CONTACT:
DESCRIPTION:
DTSTART;VALUE=DATE:20200111
DTEND;VALUE=DATE:20200112
SEQUENCE:0
SUMMARY:Men’s 18 Holes Stableford-President’s Cup
URL:http://wangarattagolf.org.au/event/mens-18-holes-stableford-presidents-
 cup-2/
X-COST-TYPE:free
END:VEVENT
BEGIN:VEVENT
UID:ai1ec-4206@wangarattagolf.org.au/wordpress
DTSTAMP:20210225T170422Z
CATEGORIES;LANGUAGE=en-AU:Mens
CONTACT:
DESCRIPTION:
DTSTART;VALUE=DATE:20200115
DTEND;VALUE=DATE:20200116
SEQUENCE:0
SUMMARY:Men’s 9 and 18 Holes Stableford
URL:http://wangarattagolf.org.au/event/mens-9-and-18-holes-stableford-3/
X-COST-TYPE:free
END:VEVENT
BEGIN:VEVENT
UID:ai1ec-4226@wangarattagolf.org.au/wordpress
DTSTAMP:20210225T170422Z
CATEGORIES;LANGUAGE=en-AU:Combined
CONTACT:
DESCRIPTION:
DTSTART;VALUE=DATE:20200117
DTEND;VALUE=DATE:20200118
SEQUENCE:0
SUMMARY:Men’s and Women’s 9 Holes Stableford Twilight & BBQ
URL:http://wangarattagolf.org.au/event/mens-and-womens-9-holes-stableford-t
 wilight-bbq-2/
X-COST-TYPE:free
END:VEVENT
BEGIN:VEVENT
UID:ai1ec-4223@wangarattagolf.org.au/wordpress
DTSTAMP:20210225T170422Z
CATEGORIES;LANGUAGE=en-AU:Mens
CONTACT:
DESCRIPTION:
DTSTART;VALUE=DATE:20200118
DTEND;VALUE=DATE:20200119
SEQUENCE:0
SUMMARY:Men’s 18 Holes Stableford-President’s Cup
URL:http://wangarattagolf.org.au/event/mens-18-holes-stableford-presidents-
 cup-3/
X-COST-TYPE:free
END:VEVENT
BEGIN:VEVENT
UID:ai1ec-4209@wangarattagolf.org.au/wordpress
DTSTAMP:20210225T170422Z
CATEGORIES;LANGUAGE=en-AU:Mens
CONTACT:
DESCRIPTION:
DTSTART;VALUE=DATE:20200122
DTEND;VALUE=DATE:20200123
RRULE:FREQ=WEEKLY;BYDAY=WE;WKST=SU
SEQUENCE:0
SUMMARY:Men’s 9 and 18 Holes Stableford
URL:http://wangarattagolf.org.au/event/mens-9-and-18-holes-stableford-4/
X-COST-TYPE:free
END:VEVENT
BEGIN:VEVENT
UID:ai1ec-4239@wangarattagolf.org.au/wordpress
DTSTAMP:20210225T170422Z
CATEGORIES;LANGUAGE=en-AU:Mens
CONTACT:
DESCRIPTION:
DTSTART;VALUE=DATE:20200129
DTEND;VALUE=DATE:20200130
SEQUENCE:0
SUMMARY:Men’s and 18 Holes Stableford
URL:http://wangarattagolf.org.au/event/mens-and-18-holes-stableford/
X-COST-TYPE:free
END:VEVENT
BEGIN:VEVENT
UID:ai1ec-4246@wangarattagolf.org.au/wordpress
DTSTAMP:20210225T170422Z
CATEGORIES;LANGUAGE=en-AU:Mens
CONTACT:
DESCRIPTION:
DTSTART;VALUE=DATE:20200201
DTEND;VALUE=DATE:20200202
SEQUENCE:0
SUMMARY:Men’s February Monthly Medal Stroke
URL:http://wangarattagolf.org.au/event/mens-february-monthly-medal-stroke/
X-COST-TYPE:free
END:VEVENT
BEGIN:VEVENT
UID:ai1ec-4203@wangarattagolf.org.au/wordpress
DTSTAMP:20210225T170422Z
CATEGORIES;LANGUAGE=en-AU:Mens
CONTACT:
DESCRIPTION:
DTSTART;TZID=Australia/Melbourne:20200108T170000
DTEND;TZID=Australia/Melbourne:20200108T193000
SEQUENCE:0
SUMMARY:Men’s 9 Holes Stableford Twilight
URL:http://wangarattagolf.org.au/event/mens-9-holes-stableford-twilight-2/
X-COST-TYPE:free
END:VEVENT
BEGIN:VEVENT
UID:ai1ec-4205@wangarattagolf.org.au/wordpress
DTSTAMP:20210225T170422Z
CATEGORIES;LANGUAGE=en-AU:Combined
CONTACT:
DESCRIPTION:
DTSTART;TZID=Australia/Melbourne:20200110T163000
DTEND;TZID=Australia/Melbourne:20200110T180000
SEQUENCE:0
SUMMARY:Men’s and Women’s 9 Holes Stableford Twilight & BBQ
URL:http://wangarattagolf.org.au/event/mens-and-womens-9-holes-stableford-t
 wilight-bbq/
X-COST-TYPE:free
END:VEVENT
BEGIN:VEVENT
UID:ai1ec-4207@wangarattagolf.org.au/wordpress
DTSTAMP:20210225T170422Z
CATEGORIES;LANGUAGE=en-AU:Mens
CONTACT:
DESCRIPTION:
DTSTART;TZID=Australia/Melbourne:20200115T170000
DTEND;TZID=Australia/Melbourne:20200115T194500
SEQUENCE:0
SUMMARY:Men’s 9 Holes Stableford Twilight and BBQ
URL:http://wangarattagolf.org.au/event/mens-9-holes-stableford-twilight-and
 -bbq/
X-COST-TYPE:free
END:VEVENT
BEGIN:VEVENT
UID:ai1ec-4228@wangarattagolf.org.au/wordpress
DTSTAMP:20210225T170422Z
CATEGORIES;LANGUAGE=en-AU:Mens
CONTACT:
DESCRIPTION:
DTSTART;TZID=Australia/Melbourne:20200122T170000
DTEND;TZID=Australia/Melbourne:20200122T200000
SEQUENCE:0
SUMMARY:Men’s 9 Holes Twilight & BBQ
URL:http://wangarattagolf.org.au/event/mens-9-holes-twilight-bbq/
X-COST-TYPE:free
END:VEVENT
BEGIN:VEVENT
UID:ai1ec-4243@wangarattagolf.org.au/wordpress
DTSTAMP:20210225T170422Z
CATEGORIES;LANGUAGE=en-AU:Mens
CONTACT:
DESCRIPTION:
DTSTART;TZID=Australia/Melbourne:20200129T170000
DTEND;TZID=Australia/Melbourne:20200129T200000
SEQUENCE:0
SUMMARY:Men’s 9 Holes Stableford Twilight and BBQ
URL:http://wangarattagolf.org.au/event/mens-9-holes-stableford-twilight-and
 -bbq-2/
X-COST-TYPE:free
END:VEVENT
BEGIN:VEVENT
UID:ai1ec-4245@wangarattagolf.org.au/wordpress
DTSTAMP:20210225T170422Z
CATEGORIES;LANGUAGE=en-AU:Combined
CONTACT:
DESCRIPTION:
DTSTART;TZID=Australia/Melbourne:20200131T170000
DTEND;TZID=Australia/Melbourne:20200131T213000
SEQUENCE:0
SUMMARY:Men and Women’s 9 Holes Stableford and BBQ
URL:http://wangarattagolf.org.au/event/men-and-womens-9-holes-stableford-an
 d-bbq/
X-COST-TYPE:free
END:VEVENT
END:VCALENDAR
